Name | Last modified | Size | Description | |
---|---|---|---|---|
Parent Directory | - | |||
buildsrc-out.txt | 17-Feb-2022 22:36 | 811 | ||
buildsrc-summary.dcf | 17-Feb-2022 22:36 | 428 | ||
checksrc-out.txt | 17-Feb-2022 22:36 | 2.6K | ||
checksrc-summary.dcf | 17-Feb-2022 22:36 | 447 | ||
install-out.txt | 17-Feb-2022 22:36 | 898 | ||
install-summary.dcf | 17-Feb-2022 22:36 | 271 | ||