Name | Last modified | Size | Description | |
---|---|---|---|---|
Parent Directory | - | |||
install-summary.dcf | 17-Feb-2022 22:36 | 286 | ||
install-out.txt | 17-Feb-2022 22:36 | 1.1K | ||
checksrc-summary.dcf | 17-Feb-2022 22:36 | 478 | ||
checksrc-out.txt | 17-Feb-2022 22:36 | 2.7K | ||
buildsrc-summary.dcf | 17-Feb-2022 22:36 | 451 | ||
buildsrc-out.txt | 17-Feb-2022 22:36 | 840 | ||