Name | Last modified | Size | Description | |
---|---|---|---|---|
Parent Directory | - | |||
checksrc-summary.dcf | 19-Oct-2022 03:50 | 458 | ||
checksrc-out.txt | 19-Oct-2022 03:50 | 2.9K | ||
buildsrc-out.txt | 19-Oct-2022 03:50 | 881 | ||
install-summary.dcf | 19-Oct-2022 03:50 | 276 | ||
install-out.txt | 19-Oct-2022 03:50 | 1.0K | ||
buildsrc-summary.dcf | 19-Oct-2022 03:50 | 440 | ||