Name | Last modified | Size | Description | |
---|---|---|---|---|
Parent Directory | - | |||
checksrc-summary.dcf | 19-Oct-2022 03:50 | 434 | ||
checksrc-out.txt | 19-Oct-2022 03:50 | 3.1K | ||
buildsrc-summary.dcf | 19-Oct-2022 03:50 | 422 | ||
buildsrc-out.txt | 19-Oct-2022 03:50 | 920 | ||
install-summary.dcf | 19-Oct-2022 03:50 | 264 | ||
install-out.txt | 19-Oct-2022 03:50 | 948 | ||