Name | Last modified | Size | Description | |
---|---|---|---|---|
Parent Directory | - | |||
install-summary.dcf | 17-Feb-2022 22:36 | 287 | ||
buildsrc-out.txt | 17-Feb-2022 22:36 | 916 | ||
buildsrc-summary.dcf | 17-Feb-2022 22:36 | 454 | ||
install-out.txt | 17-Feb-2022 22:36 | 938 | ||
checksrc-out.txt | 17-Feb-2022 22:36 | 3.0K | ||
checksrc-summary.dcf | 17-Feb-2022 22:36 | 481 | ||