Name | Last modified | Size | Description | |
---|---|---|---|---|
Parent Directory | - | |||
buildsrc-out.txt | 17-Feb-2022 22:36 | 761 | ||
buildsrc-summary.dcf | 17-Feb-2022 22:36 | 440 | ||
checksrc-out.txt | 17-Feb-2022 22:36 | 2.9K | ||
checksrc-summary.dcf | 17-Feb-2022 22:36 | 467 | ||
install-out.txt | 17-Feb-2022 22:36 | 942 | ||
install-summary.dcf | 17-Feb-2022 22:36 | 278 | ||