Name | Last modified | Size | Description | |
---|---|---|---|---|
Parent Directory | - | |||
buildsrc-out.txt | 17-Feb-2022 22:36 | 860 | ||
buildsrc-summary.dcf | 17-Feb-2022 22:36 | 468 | ||
checksrc-out.txt | 17-Feb-2022 22:36 | 2.8K | ||
checksrc-summary.dcf | 17-Feb-2022 22:36 | 497 | ||
install-out.txt | 17-Feb-2022 22:36 | 934 | ||
install-summary.dcf | 17-Feb-2022 22:36 | 295 | ||