Name | Last modified | Size | Description | |
---|---|---|---|---|
Parent Directory | - | |||
buildsrc-out.txt | 19-Oct-2022 03:50 | 877 | ||
buildsrc-summary.dcf | 19-Oct-2022 03:50 | 476 | ||
checksrc-out.txt | 19-Oct-2022 03:50 | 2.8K | ||
checksrc-summary.dcf | 19-Oct-2022 03:50 | 503 | ||
install-out.txt | 19-Oct-2022 03:50 | 925 | ||
install-summary.dcf | 19-Oct-2022 03:50 | 298 | ||