Name | Last modified | Size | Description | |
---|---|---|---|---|
Parent Directory | - | |||
buildsrc-out.txt | 17-Feb-2022 22:36 | 1.2K | ||
buildsrc-summary.dcf | 17-Feb-2022 22:36 | 458 | ||
checksrc-out.txt | 17-Feb-2022 22:36 | 3.1K | ||
checksrc-summary.dcf | 17-Feb-2022 22:36 | 486 | ||
install-out.txt | 17-Feb-2022 22:36 | 941 | ||
install-summary.dcf | 17-Feb-2022 22:36 | 289 | ||