Name | Last modified | Size | Description | |
---|---|---|---|---|
Parent Directory | - | |||
install-out.txt | 17-Feb-2022 22:36 | 959 | ||
install-summary.dcf | 17-Feb-2022 22:36 | 274 | ||
buildsrc-out.txt | 17-Feb-2022 22:36 | 816 | ||
buildsrc-summary.dcf | 17-Feb-2022 22:36 | 433 | ||
checksrc-out.txt | 17-Feb-2022 22:36 | 3.6K | ||
checksrc-summary.dcf | 17-Feb-2022 22:36 | 460 | ||