Name | Last modified | Size | Description | |
---|---|---|---|---|
Parent Directory | - | |||
install-summary.dcf | 19-Oct-2022 03:50 | 263 | ||
install-out.txt | 19-Oct-2022 03:50 | 961 | ||
checksrc-summary.dcf | 19-Oct-2022 03:50 | 431 | ||
checksrc-out.txt | 19-Oct-2022 03:50 | 3.3K | ||
buildsrc-summary.dcf | 19-Oct-2022 03:50 | 423 | ||
buildsrc-out.txt | 19-Oct-2022 03:50 | 877 | ||