Name | Last modified | Size | Description | |
---|---|---|---|---|
Parent Directory | - | |||
install-summary.dcf | 17-Feb-2022 22:36 | 283 | ||
buildsrc-summary.dcf | 17-Feb-2022 22:36 | 448 | ||
checksrc-summary.dcf | 17-Feb-2022 22:36 | 479 | ||
buildsrc-out.txt | 17-Feb-2022 22:36 | 836 | ||
install-out.txt | 17-Feb-2022 22:36 | 908 | ||
checksrc-out.txt | 17-Feb-2022 22:36 | 2.9K | ||