Name | Last modified | Size | Description | |
---|---|---|---|---|
Parent Directory | - | |||
buildsrc-out.txt | 19-Oct-2022 03:50 | 825 | ||
buildsrc-summary.dcf | 19-Oct-2022 03:50 | 437 | ||
checksrc-out.txt | 19-Oct-2022 03:50 | 2.8K | ||
checksrc-summary.dcf | 19-Oct-2022 03:50 | 457 | ||
install-out.txt | 19-Oct-2022 03:50 | 886 | ||
install-summary.dcf | 19-Oct-2022 03:50 | 272 | ||