Name | Last modified | Size | Description | |
---|---|---|---|---|
Parent Directory | - | |||
checksrc-out.txt | 17-Feb-2022 22:36 | 3.3K | ||
checksrc-summary.dcf | 17-Feb-2022 22:36 | 453 | ||
buildsrc-summary.dcf | 17-Feb-2022 22:36 | 434 | ||
buildsrc-out.txt | 17-Feb-2022 22:36 | 865 | ||
install-summary.dcf | 17-Feb-2022 22:36 | 273 | ||
install-out.txt | 17-Feb-2022 22:36 | 1.0K | ||