Index of /checkResults/3.15/data-annotation-LATEST/phastCons30way.UCSC.hg38/raw-results
Name
Last modified
Size
Description
Parent Directory
-
info.dcf
21-Sep-2022 19:00
309
nebbiolo1/
21-Sep-2022 19:00
-