Index of /checkResults/3.15/data-annotation-LATEST/ontoProcData/raw-results
Name
Last modified
Size
Description
Parent Directory
-
nebbiolo1/
21-Sep-2022 19:00
-
info.dcf
21-Sep-2022 19:00
302