Index of /checkResults/3.15/data-annotation-LATEST/EuPathDB/raw-results/nebbiolo1
Name
Last modified
Size
Description
Parent Directory
-
buildsrc-out.txt
21-Sep-2022 19:00
1.2K
buildsrc-summary.dcf
21-Sep-2022 19:00
334
install-out.txt
21-Sep-2022 19:00
950
install-summary.dcf
21-Sep-2022 19:00
260