Index of /checkResults/3.15/bioc-longtests-LATEST/biodbKegg/raw-results/nebbiolo1
Name
Last modified
Size
Description
Parent Directory
-
buildsrc-out.txt
16-Oct-2022 10:00
774
buildsrc-summary.dcf
16-Oct-2022 10:00
453
checksrc-out.txt
16-Oct-2022 10:00
2.8K
checksrc-summary.dcf
16-Oct-2022 10:00
433