Name | Last modified | Size | Description | |
---|---|---|---|---|
Parent Directory | - | |||
buildsrc-out.txt | 20-Oct-2022 02:21 | 880 | ||
buildsrc-summary.dcf | 20-Oct-2022 02:21 | 424 | ||
checksrc-out.txt | 20-Oct-2022 02:21 | 27K | ||
checksrc-summary.dcf | 20-Oct-2022 02:21 | 434 | ||
install-out.txt | 20-Oct-2022 02:21 | 1.4K | ||
install-summary.dcf | 20-Oct-2022 02:21 | 264 | ||