Name | Last modified | Size | Description | |
---|---|---|---|---|
Parent Directory | - | |||
buildbin-out.txt | 19-Mar-2022 00:12 | 2.4K | ||
buildbin-summary.dcf | 19-Mar-2022 00:12 | 521 | ||
buildsrc-out.txt | 20-Oct-2022 02:23 | 1.9K | ||
buildsrc-summary.dcf | 20-Oct-2022 02:23 | 340 | ||
checksrc-out.txt | 19-Mar-2022 00:12 | 5.3K | ||
checksrc-summary.dcf | 19-Mar-2022 00:12 | 439 | ||
install-out.txt | 20-Oct-2022 02:23 | 1.6K | ||
install-summary.dcf | 20-Oct-2022 02:23 | 266 | ||