Name | Last modified | Size | Description | |
---|---|---|---|---|
Parent Directory | - | |||
install-summary.dcf | 19-Mar-2022 00:08 | 269 | ||
install-out.txt | 19-Mar-2022 00:08 | 4.8K | ||
checksrc-summary.dcf | 19-Mar-2022 00:08 | 447 | ||
checksrc-out.txt | 19-Mar-2022 00:08 | 5.0K | ||
buildsrc-summary.dcf | 19-Mar-2022 00:08 | 452 | ||
buildsrc-out.txt | 19-Mar-2022 00:08 | 931 | ||
buildbin-summary.dcf | 19-Mar-2022 00:08 | 515 | ||
buildbin-out.txt | 19-Mar-2022 00:08 | 4.7K | ||