Name | Last modified | Size | Description | |
---|---|---|---|---|
Parent Directory | - | |||
buildsrc-out.txt | 20-Oct-2022 02:20 | 881 | ||
buildsrc-summary.dcf | 20-Oct-2022 02:20 | 426 | ||
checksrc-out.txt | 20-Oct-2022 02:20 | 5.4K | ||
checksrc-summary.dcf | 20-Oct-2022 02:20 | 435 | ||
install-out.txt | 20-Oct-2022 02:20 | 964 | ||
install-summary.dcf | 20-Oct-2022 02:20 | 264 | ||