Name | Last modified | Size | Description | |
---|---|---|---|---|
Parent Directory | - | |||
buildbin-out.txt | 19-Mar-2022 00:08 | 3.4K | ||
buildbin-summary.dcf | 19-Mar-2022 00:08 | 551 | ||
buildsrc-out.txt | 19-Mar-2022 00:08 | 1.1K | ||
buildsrc-summary.dcf | 19-Mar-2022 00:08 | 476 | ||
checksrc-out.txt | 19-Mar-2022 00:08 | 4.2K | ||
checksrc-summary.dcf | 19-Mar-2022 00:08 | 471 | ||
install-out.txt | 19-Mar-2022 00:08 | 3.5K | ||
install-summary.dcf | 19-Mar-2022 00:08 | 280 | ||