Name | Last modified | Size | Description | |
---|---|---|---|---|
Parent Directory | - | |||
buildsrc-out.txt | 20-Oct-2022 02:20 | 885 | ||
buildsrc-summary.dcf | 20-Oct-2022 02:20 | 429 | ||
checksrc-out.txt | 20-Oct-2022 02:20 | 6.0K | ||
checksrc-summary.dcf | 20-Oct-2022 02:20 | 439 | ||
install-out.txt | 20-Oct-2022 02:20 | 959 | ||
install-summary.dcf | 20-Oct-2022 02:20 | 266 | ||