Name | Last modified | Size | Description | |
---|---|---|---|---|
Parent Directory | - | |||
install-summary.dcf | 20-Oct-2022 02:23 | 269 | ||
buildsrc-summary.dcf | 20-Oct-2022 02:23 | 343 | ||
checksrc-summary.dcf | 13-Mar-2022 01:11 | 446 | ||
buildbin-summary.dcf | 13-Mar-2022 01:11 | 525 | ||
install-out.txt | 20-Oct-2022 02:23 | 1.0K | ||
buildbin-out.txt | 13-Mar-2022 01:11 | 1.1K | ||
buildsrc-out.txt | 20-Oct-2022 02:23 | 1.5K | ||
checksrc-out.txt | 13-Mar-2022 01:11 | 6.9K | ||