Name | Last modified | Size | Description | |
---|---|---|---|---|
Parent Directory | - | |||
buildbin-out.txt | 23-Jun-2022 01:07 | 2.1K | ||
buildbin-summary.dcf | 23-Jun-2022 01:07 | 509 | ||
buildsrc-out.txt | 20-Oct-2022 02:22 | 6.5K | ||
buildsrc-summary.dcf | 20-Oct-2022 02:22 | 366 | ||
checksrc-out.txt | 23-Jun-2022 01:07 | 4.4K | ||
checksrc-summary.dcf | 23-Jun-2022 01:07 | 449 | ||
install-out.txt | 20-Oct-2022 02:22 | 1.9K | ||
install-summary.dcf | 20-Oct-2022 02:22 | 266 | ||