Name | Last modified | Size | Description | |
---|---|---|---|---|
Parent Directory | - | |||
buildbin-out.txt | 20-Oct-2022 02:21 | 2.8K | ||
buildbin-summary.dcf | 20-Oct-2022 02:21 | 509 | ||
buildsrc-out.txt | 20-Oct-2022 02:21 | 894 | ||
buildsrc-summary.dcf | 20-Oct-2022 02:21 | 449 | ||
checksrc-out.txt | 20-Oct-2022 02:21 | 3.3K | ||
checksrc-summary.dcf | 20-Oct-2022 02:21 | 443 | ||
install-out.txt | 20-Oct-2022 02:21 | 2.7K | ||
install-summary.dcf | 20-Oct-2022 02:21 | 266 | ||