Name | Last modified | Size | Description | |
---|---|---|---|---|
Parent Directory | - | |||
install-out.txt | 19-Mar-2022 00:08 | 7.0K | ||
buildbin-out.txt | 19-Mar-2022 00:08 | 6.8K | ||
checksrc-out.txt | 19-Mar-2022 00:08 | 5.0K | ||
buildsrc-out.txt | 19-Mar-2022 00:08 | 855 | ||
buildbin-summary.dcf | 19-Mar-2022 00:08 | 495 | ||
checksrc-summary.dcf | 19-Mar-2022 00:08 | 439 | ||
buildsrc-summary.dcf | 19-Mar-2022 00:08 | 439 | ||
install-summary.dcf | 19-Mar-2022 00:08 | 261 | ||