Name | Last modified | Size | Description | |
---|---|---|---|---|
Parent Directory | - | |||
install-out.txt | 19-Mar-2022 00:08 | 6.4K | ||
buildbin-out.txt | 19-Mar-2022 00:08 | 6.4K | ||
checksrc-out.txt | 19-Mar-2022 00:08 | 3.3K | ||
buildsrc-out.txt | 19-Mar-2022 00:08 | 893 | ||
buildbin-summary.dcf | 19-Mar-2022 00:08 | 578 | ||
buildsrc-summary.dcf | 19-Mar-2022 00:08 | 494 | ||
checksrc-summary.dcf | 19-Mar-2022 00:08 | 488 | ||
install-summary.dcf | 19-Mar-2022 00:08 | 289 | ||