Name | Last modified | Size | Description | |
---|---|---|---|---|
Parent Directory | - | |||
buildsrc-out.txt | 20-Oct-2022 02:20 | 904 | ||
buildsrc-summary.dcf | 20-Oct-2022 02:20 | 432 | ||
checksrc-out.txt | 20-Oct-2022 02:20 | 5.8K | ||
checksrc-summary.dcf | 20-Oct-2022 02:20 | 449 | ||
install-out.txt | 20-Oct-2022 02:20 | 1.1M | ||
install-summary.dcf | 20-Oct-2022 02:20 | 269 | ||