Name | Last modified | Size | Description | |
---|---|---|---|---|
Parent Directory | - | |||
buildbin-out.txt | 13-Mar-2022 01:07 | 1.8K | ||
buildbin-summary.dcf | 13-Mar-2022 01:07 | 488 | ||
buildsrc-out.txt | 19-Mar-2022 00:07 | 5.0K | ||
buildsrc-summary.dcf | 19-Mar-2022 00:07 | 355 | ||
checksrc-out.txt | 13-Mar-2022 01:07 | 4.4K | ||
checksrc-summary.dcf | 13-Mar-2022 01:07 | 432 | ||
install-out.txt | 19-Mar-2022 00:07 | 1.9K | ||
install-summary.dcf | 19-Mar-2022 00:07 | 259 | ||