Name | Last modified | Size | Description | |
---|---|---|---|---|
Parent Directory | - | |||
install-summary.dcf | 19-Mar-2022 00:07 | 262 | ||
buildsrc-summary.dcf | 19-Mar-2022 00:07 | 440 | ||
checksrc-summary.dcf | 19-Mar-2022 00:07 | 440 | ||
buildbin-summary.dcf | 19-Mar-2022 00:07 | 497 | ||
buildsrc-out.txt | 19-Mar-2022 00:07 | 824 | ||
buildbin-out.txt | 19-Mar-2022 00:07 | 1.6K | ||
install-out.txt | 19-Mar-2022 00:07 | 1.7K | ||
checksrc-out.txt | 19-Mar-2022 00:07 | 4.1K | ||