Name | Last modified | Size | Description | |
---|---|---|---|---|
Parent Directory | - | |||
install-summary.dcf | 20-Oct-2022 02:20 | 252 | ||
buildsrc-summary.dcf | 20-Oct-2022 02:20 | 406 | ||
checksrc-summary.dcf | 20-Oct-2022 02:20 | 417 | ||
buildsrc-out.txt | 20-Oct-2022 02:20 | 794 | ||
install-out.txt | 20-Oct-2022 02:20 | 1.0K | ||
checksrc-out.txt | 20-Oct-2022 02:20 | 4.1K | ||