Name | Last modified | Size | Description | |
---|---|---|---|---|
Parent Directory | - | |||
install-summary.dcf | 19-Mar-2022 00:07 | 263 | ||
install-out.txt | 19-Mar-2022 00:07 | 2.6K | ||
checksrc-summary.dcf | 19-Mar-2022 00:07 | 437 | ||
checksrc-out.txt | 19-Mar-2022 00:07 | 3.1K | ||
buildsrc-summary.dcf | 19-Mar-2022 00:07 | 443 | ||
buildsrc-out.txt | 19-Mar-2022 00:07 | 888 | ||
buildbin-summary.dcf | 19-Mar-2022 00:07 | 499 | ||
buildbin-out.txt | 19-Mar-2022 00:07 | 2.7K | ||