Name | Last modified | Size | Description | |
---|---|---|---|---|
Parent Directory | - | |||
buildsrc-out.txt | 20-Oct-2022 02:20 | 1.9K | ||
buildsrc-summary.dcf | 20-Oct-2022 02:20 | 326 | ||
checksrc-out.txt | 19-Mar-2022 00:05 | 3.8K | ||
checksrc-summary.dcf | 19-Mar-2022 00:05 | 411 | ||
install-out.txt | 20-Oct-2022 02:20 | 938 | ||
install-summary.dcf | 20-Oct-2022 02:20 | 252 | ||