Name | Last modified | Size | Description | |
---|---|---|---|---|
Parent Directory | - | |||
install-summary.dcf | 20-Oct-2022 02:20 | 265 | ||
install-out.txt | 20-Oct-2022 02:20 | 964 | ||
checksrc-summary.dcf | 20-Oct-2022 02:20 | 436 | ||
checksrc-out.txt | 20-Oct-2022 02:20 | 3.2K | ||
buildsrc-summary.dcf | 20-Oct-2022 02:20 | 426 | ||
buildsrc-out.txt | 20-Oct-2022 02:20 | 881 | ||