Name | Last modified | Size | Description | |
---|---|---|---|---|
Parent Directory | - | |||
install-out.txt | 20-Oct-2022 02:20 | 949 | ||
install-summary.dcf | 20-Oct-2022 02:20 | 254 | ||
buildsrc-out.txt | 20-Oct-2022 02:20 | 861 | ||
buildsrc-summary.dcf | 20-Oct-2022 02:20 | 410 | ||
checksrc-out.txt | 20-Oct-2022 02:20 | 3.5K | ||
checksrc-summary.dcf | 20-Oct-2022 02:20 | 415 | ||