Index of /checkResults/3.15/bioc-LATEST/banocc/raw-results/riesling1
Name
Last modified
Size
Description
Parent Directory
-
buildsrc-out.txt
19-Mar-2022 00:06
2.8K
buildsrc-summary.dcf
19-Mar-2022 00:06
365
install-out.txt
19-Mar-2022 00:06
1.7K
install-summary.dcf
19-Mar-2022 00:06
266