Name | Last modified | Size | Description | |
---|---|---|---|---|
Parent Directory | - | |||
install-summary.dcf | 20-Oct-2022 02:19 | 255 | ||
install-out.txt | 20-Oct-2022 02:19 | 2.2K | ||
checksrc-summary.dcf | 20-Oct-2022 02:19 | 416 | ||
checksrc-out.txt | 20-Oct-2022 02:19 | 9.9K | ||
buildsrc-summary.dcf | 20-Oct-2022 02:19 | 411 | ||
buildsrc-out.txt | 20-Oct-2022 02:19 | 891 | ||