Index of /checkResults/3.15/bioc-LATEST/annmap/raw-results
Name
Last modified
Size
Description
Parent Directory
-
nebbiolo1/
20-Oct-2022 02:19
-
merida1/
20-Oct-2022 02:22
-
info.dcf
20-Oct-2022 02:22
287