Name | Last modified | Size | Description | |
---|---|---|---|---|
Parent Directory | - | |||
buildbin-out.txt | 20-Oct-2022 02:22 | 12K | ||
buildbin-summary.dcf | 20-Oct-2022 02:22 | 529 | ||
buildsrc-out.txt | 20-Oct-2022 02:22 | 846 | ||
buildsrc-summary.dcf | 20-Oct-2022 02:22 | 428 | ||
checksrc-out.txt | 20-Oct-2022 02:22 | 3.8K | ||
checksrc-summary.dcf | 20-Oct-2022 02:22 | 444 | ||
install-out.txt | 20-Oct-2022 02:22 | 11K | ||
install-summary.dcf | 20-Oct-2022 02:22 | 269 | ||