Name | Last modified | Size | Description | |
---|---|---|---|---|
Parent Directory | - | |||
checksrc-out.txt | 20-Oct-2022 02:19 | 2.9K | ||
install-out.txt | 20-Oct-2022 02:19 | 944 | ||
buildsrc-out.txt | 20-Oct-2022 02:19 | 802 | ||
checksrc-summary.dcf | 20-Oct-2022 02:19 | 419 | ||
buildsrc-summary.dcf | 20-Oct-2022 02:19 | 413 | ||
install-summary.dcf | 20-Oct-2022 02:19 | 257 | ||