Name | Last modified | Size | Description | |
---|---|---|---|---|
Parent Directory | - | |||
buildbin-out.txt | 20-Oct-2022 02:22 | 72K | ||
buildbin-summary.dcf | 20-Oct-2022 02:22 | 525 | ||
buildsrc-out.txt | 20-Oct-2022 02:22 | 880 | ||
buildsrc-summary.dcf | 20-Oct-2022 02:22 | 458 | ||
checksrc-out.txt | 20-Oct-2022 02:22 | 4.6K | ||
checksrc-summary.dcf | 20-Oct-2022 02:22 | 453 | ||
install-out.txt | 20-Oct-2022 02:22 | 72K | ||
install-summary.dcf | 20-Oct-2022 02:22 | 272 | ||