Name | Last modified | Size | Description | |
---|---|---|---|---|
Parent Directory | - | |||
install-summary.dcf | 19-Mar-2022 00:08 | 287 | ||
checksrc-summary.dcf | 19-Mar-2022 00:08 | 485 | ||
buildsrc-summary.dcf | 19-Mar-2022 00:08 | 490 | ||
buildbin-summary.dcf | 19-Mar-2022 00:08 | 571 | ||
buildsrc-out.txt | 19-Mar-2022 00:08 | 888 | ||
install-out.txt | 19-Mar-2022 00:08 | 1.8K | ||
buildbin-out.txt | 19-Mar-2022 00:08 | 1.9K | ||
checksrc-out.txt | 19-Mar-2022 00:08 | 3.4K | ||