Name | Last modified | Size | Description | |
---|---|---|---|---|
Parent Directory | - | |||
install-summary.dcf | 19-Mar-2022 00:08 | 269 | ||
install-out.txt | 19-Mar-2022 00:08 | 1.4K | ||
checksrc-summary.dcf | 19-Mar-2022 00:08 | 447 | ||
checksrc-out.txt | 19-Mar-2022 00:08 | 3.7K | ||
buildsrc-summary.dcf | 19-Mar-2022 00:08 | 452 | ||
buildsrc-out.txt | 19-Mar-2022 00:08 | 899 | ||
buildbin-summary.dcf | 19-Mar-2022 00:08 | 516 | ||
buildbin-out.txt | 19-Mar-2022 00:08 | 1.5K | ||