Name | Last modified | Size | Description | |
---|---|---|---|---|
Parent Directory | - | |||
buildbin-out.txt | 20-Oct-2022 02:22 | 1.1K | ||
buildbin-summary.dcf | 20-Oct-2022 02:22 | 515 | ||
buildsrc-out.txt | 20-Oct-2022 02:22 | 899 | ||
buildsrc-summary.dcf | 20-Oct-2022 02:22 | 452 | ||
checksrc-out.txt | 20-Oct-2022 02:22 | 3.9K | ||
checksrc-summary.dcf | 20-Oct-2022 02:22 | 447 | ||
install-out.txt | 20-Oct-2022 02:22 | 971 | ||
install-summary.dcf | 20-Oct-2022 02:22 | 268 | ||