Name | Last modified | Size | Description | |
---|---|---|---|---|
Parent Directory | - | |||
buildbin-out.txt | 19-Mar-2022 00:08 | 3.0K | ||
buildbin-summary.dcf | 19-Mar-2022 00:08 | 516 | ||
buildsrc-out.txt | 19-Mar-2022 00:08 | 839 | ||
buildsrc-summary.dcf | 19-Mar-2022 00:08 | 452 | ||
checksrc-out.txt | 19-Mar-2022 00:08 | 3.3K | ||
checksrc-summary.dcf | 19-Mar-2022 00:08 | 446 | ||
install-out.txt | 19-Mar-2022 00:08 | 3.1K | ||
install-summary.dcf | 19-Mar-2022 00:08 | 268 | ||