Index of /checkResults/3.15/bioc-LATEST/ScISI/raw-results/nebbiolo1
Name
Last modified
Size
Description
Parent Directory
-
buildsrc-out.txt
20-Oct-2022 02:20
2.9K
buildsrc-summary.dcf
20-Oct-2022 02:20
329
install-out.txt
20-Oct-2022 02:20
1.4K
install-summary.dcf
20-Oct-2022 02:20
255