Name | Last modified | Size | Description | |
---|---|---|---|---|
Parent Directory | - | |||
buildbin-out.txt | 15-Jan-2022 01:08 | 201M | ||
buildbin-summary.dcf | 15-Jan-2022 01:08 | 497 | ||
buildsrc-out.txt | 19-Mar-2022 00:08 | 2.2K | ||
buildsrc-summary.dcf | 19-Mar-2022 00:08 | 358 | ||
checksrc-out.txt | 15-Jan-2022 01:08 | 3.6K | ||
checksrc-summary.dcf | 15-Jan-2022 01:08 | 435 | ||
install-out.txt | 19-Mar-2022 00:08 | 1.9K | ||
install-summary.dcf | 19-Mar-2022 00:08 | 265 | ||