Name | Last modified | Size | Description | |
---|---|---|---|---|
Parent Directory | - | |||
buildbin-out.txt | 20-Oct-2022 02:22 | 1.1K | ||
buildbin-summary.dcf | 20-Oct-2022 02:22 | 554 | ||
buildsrc-out.txt | 20-Oct-2022 02:22 | 873 | ||
buildsrc-summary.dcf | 20-Oct-2022 02:22 | 478 | ||
checksrc-out.txt | 20-Oct-2022 02:22 | 3.0K | ||
checksrc-summary.dcf | 20-Oct-2022 02:22 | 473 | ||
install-out.txt | 20-Oct-2022 02:22 | 1.0K | ||
install-summary.dcf | 20-Oct-2022 02:22 | 281 | ||